Workbook

Sheet Detalle de Costos
D3: Costos por paquete de trabajo
A6: Nombre del Proyecto
A7: Código | B7: Paquete de Trabajo
A8: Meses | C8: 1 | D8: 2 | E8: 3 | F8: 4 | G8: 5 | H8: 6 | I8: 7 | J8: 8 | K8: 9 | L8: 10 | M8: 11 | N8: 12 | O8: 13 | P8: 14 | Q8: 15 | R8: 16 | S8: 17 | T8: 18 | U8: 19 | V8: 20 | W8: 21 | X8: 22 | Y8: 23 | Z8: 24 | AA8: 25 | AB8: 26 | AC8: 27 | AD8: 28 | AE8: 29 | AF8: 30 | AG8: 31 | AH8: 32 | AI8: 33 | AJ8: 34 | AK8: 35 | AL8: 36 | AM8: 37 | AN8: 38 | AO8: 39 | AP8: 40 | AQ8: 41 | AR8: 42 | AS8: 43 | AT8: 44 | AU8: 45 | AV8: 46 | AW8: 47 | AX8: 48 | AY8: 49 | AZ8: 50 | BA8: 51 | BB8: 52 | BC8: 53 | BD8: 54 | BE8: 55 | BF8: 56 | BG8: 57 | BH8: 58 | BI8: 59 | BJ8: 60
A9: Componente 1
A10: 1.1.1.1 | B10: Paquete de trabajo
A11: 1.1.1.2
A12: 1.1.1.3
A13: 1.1.2.1
A14: 1.1.2.2
A15: 1.1.2.3
A16: 1.2.1.1
A17: 1.2.1.2
A18: 1.2.1.3
A19: 1.2.2.1
A20: 1.2.2.2
A21: 1.2.2.3
A22: Componente 2
A23: 2.1.1.1 | B23: Paquete de trabajo
A24: 2.1.1.2
A25: 2.1.1.3
A26: 2.1.2.1
A27: 2.1.2.2
A28: 2.1.2.3
A29: 2.2.1.1
A30: 2.2.1.2
A31: 2.2.1.3
A32: 2.2.2.1
A33: 2.2.2.2
A34: 2.2.2.3
A35: Componente 3
A36: 2.1.1.1 | B36: Paquete de trabajo
A37: 2.1.1.2
A38: 2.1.1.3
A39: 2.1.2.1
A40: 2.1.2.2
A41: 2.1.2.3
A42: 2.2.1.1
A43: 2.2.1.2
A44: 2.2.1.3
...

Sheet Plantilla Curva S
C7: Curva S de Recursos
C9: Proyecto: | D9: Nombre del Proyecto
C10: ID: | D10: Código identificador del proyecto.
C11: Fecha de Inicio | D11: Fecha de comienzo del proyecto | F11: Fecha Fin: | H11: Fecha estimada de fin del proyecto. | K11: Fecha de Corte: | M11: Fecha a la cual se reporta el costo real.
D13: Trimestre
D14: 1 | E14: 2 | F14: 3 | G14: 4 | H14: 5 | I14: 6 | J14: 7 | K14: 8 | L14: 9 | M14: 10 | N14: 11 | O14: 12
C15: Valor Planificado | D15: =SUM('Detalle de Costos'!C48:E48) -> 0 | E15: =SUM('Detalle de Costos'!F48:H48) -> 0 | F15: =SUM('Detalle de Costos'!I48:K48) -> 0 | G15: =SUM('Detalle de Costos'!L48:N48) -> 0 | H15: =SUM('Detalle de Costos'!O48:Q48) -> 0 | I15: =SUM('Detalle de Costos'!R48:T48) -> 0 | J15: =SUM('Detalle de Costos'!U48:W48) -> 0 | K15: =SUM('Detalle de Costos'!X48:Z48) -> 0 | L15: =SUM('Detalle de Costos'!AA48:AC48) -> 0 | M15: =SUM('Detalle de Costos'!AD48:AF48) -> 0 | N15: =SUM('Detalle de Costos'!AG48:AI48) -> 0 | O15: =SUM('Detalle de Costos'!AJ48:AL48) -> 0
C16: Valor Planificado Acumulado | D16: =D15 -> 0 | E16: =E15+D16 -> 0 | F16: =F15+E16 -> 0 | G16: =G15+F16 -> 0 | H16: =H15+G16 -> 0 | I16: =I15+H16 -> 0 | J16: =J15+I16 -> 0 | K16: =K15+J16 -> 0 | L16: =L15+K16 -> 0 | ... O16: =O15+N16 -> 0
C17: Costo Real
C18: Costo Real Acumulado

Sheet Ejemplo
C7: Curva S de Recursos
C9: Proyecto: | D9: Apoyo Educativo
C10: ID: | D10: HT2011-12
C11: Fecha de Inicio | D11: 40695 | F11: Fecha Fin: | H11: 41455 | K11: Fecha de Corte: | M11: 40908
D13: Año 2012
D14: Mes 1 | E14: Mes 2 | F14: Mes 3 | G14: Mes 4 | H14: Mes 5 | I14: Mes 6 | J14: Mes 7 | K14: Mes 8 | L14: Mes 9 | M14: Mes 10 | N14: Mes 11 | O14: Mes 12
C15: Valor Planificado | D15: 20000 | E15: 40000 | F15: 60000 | G15: 80000 | H15: 120000 | I15: 140000 | J15: 160000 | K15: 180000 | L15: 180000 | M15: 120000 | N15: 80000 | O15: 40000
C16: Valor Planificado Acumulado | D16: =D15 -> 20000 | E16: =D16+E15 -> 60000 | F16: =E16+F15 -> 120000 | G16: =F16+G15 -> 200000 | H16: =G16+H15 -> 320000 | I16: =H16+I15 -> 460000 | J16: =I16+J15 -> 620000 | K16: =J16+K15 -> 800000 | L16: =K16+L15 -> 980000 | ... O16: =N16+O15 -> 1220000
C17: Costo Real | D17: 20000 | E17: 20000 | F17: 40000 | G17: 60000 | H17: 80000 | I17: 100000 | J17: 150000
C18: Costo Real Acumulado | D18: =D17 -> 20000 | E18: =D18+E17 -> 40000 | F18: =E18+F17 -> 80000 | G18: =F18+G17 -> 140000 | H18: =G18+H17 -> 220000 | I18: =H18+I17 -> 320000 | J18: =I18+J17 -> 470000
